0.00967246315696021
0.000000
0.000000
-0.00967246315696021
-103.472899114435
44.6130913196911
