0.0083353770862926
0.000000
0.000000
-0.0083353770862926
-92.3214423855868
32.6250609033758
