0.00756992686878552
0.000000
0.000000
-0.00756992686878552
-68.3461954775724
20.1959449559992
