0.00941070556640625
0.000000
0.000000
-0.00941070556640625
-92.1555043029785
42.734239654541
