0.00931135697798297
0.000000
0.000000
-0.00931135697798297
-86.6107500110973
41.9759656594016
