0.00907809170809661
0.000000
0.000000
-0.00907809170809661
-115.57988852761
40.082935777144
