0.00766257546164771
0.000000
0.000000
-0.00766257546164771
-158.075947210138
22.2323766743053
