0.00998038552024146
0.000000
0.000000
-0.00998038552024146
-73.246129247492
46.6306146656383
