0.00866671475497161
0.000000
0.000000
-0.00866671475497161
-90.9246834494851
36.2760125593706
