0.00739779385653406
0.000000
0.000000
-0.00739779385653406
142.59536537864
15.4866947416826
