0.00876928156072443
0.000000
0.000000
-0.00876928156072443
-84.8464010481401
37.2901672085849
