0.0100835626775568
0.000000
0.000000
-0.0100835626775568
-91.1310270829634
47.2659390536222
