0.00853659889914771
0.000000
0.000000
-0.00853659889914771
-99.8597127741033
34.9162982593883
