0.00828238747336646
0.000000
0.000000
-0.00828238747336646
-100.508574926203
31.9775158344616
