0.00885825417258521
0.000000
0.000000
-0.00885825417258521
-117.544045965021
38.1325909839977
