0.00847312233664771
0.000000
0.000000
-0.00847312233664771
-113.167697393244
34.2198711811412
