0.00923120672052557
0.000000
0.000000
-0.00923120672052557
-97.0287463517623
41.3439676180753
