0.00813165838068182
0.000000
0.000000
-0.00813165838068182
-99.9464332719283
30.0161406222257
