0.0099141346324574
0.000000
0.000000
-0.0099141346324574
-119.203284482089
46.2124310857599
