0.0105004327947443
0.000000
0.000000
-0.0105004327947443
-103.904881758256
49.6533687106046
