0.0107884909889915
0.000000
0.000000
-0.0107884909889915
-125.725156347101
51.1564404713024
