0.0101549460671165
0.000000
0.000000
-0.0101549460671165
-87.7614075678045
47.6945341907848
