0.0170176558061079
0.000000
0.000000
-0.0170176558061079
-152.595780833851
69.7073496315696
