0.00880692915482953
0.000000
0.000000
-0.00880692915482953
-104.346674915661
37.6505037619851
