0.0131468616832386
0.000000
0.000000
-0.0131468616832386
-139.46548495206
60.4618141729181
