0.00943431507457385
0.000000
0.000000
-0.00943431507457385
-101.267578707608
42.9107186334783
