0.0100197809392756
0.000000
0.000000
-0.0100197809392756
-105.829926771684
46.8754298678311
