0.00925550981001422
0.000000
0.000000
-0.00925550981001422
-99.0040274464
41.5376390907981
