0.00881780450994318
0.000000
0.000000
-0.00881780450994318
-99.9189323286577
37.7534875210849
