0.00852502996271307
0.000000
0.000000
-0.00852502996271307
-96.3942498918013
34.7911209383878
