0.00985165682705964
0.000000
0.000000
-0.00985165682705964
-115.635568778298
45.8102787919478
