0.00840639981356536
0.000000
0.000000
-0.00840639981356536
-95.4937146689675
33.4625574354692
