0.0106819568980824
0.000000
0.000000
-0.0106819568980824
-120.825245541659
50.613196924383
