0.00957730379971589
0.000000
0.000000
-0.00957730379971589
-99.234399802468
43.9489695878462
