0.00853318647904828
0.000000
0.000000
-0.00853318647904828
-88.3456902660023
34.8793584372781
