0.010650801225142
0.000000
0.000000
-0.010650801225142
-100.514911915172
50.4516448142312
