0.00956895308061078
0.000000
0.000000
-0.00956895308061078
-115.312900043834
43.8896781089089
