0.0105533669211648
0.000000
0.000000
-0.0105533669211648
-117.146733453924
49.9378995860707
