0.00815646084872161
0.000000
0.000000
-0.00815646084872161
-83.0968593528054
30.3519493727251
