0.009691162109375
0.000000
0.000000
-0.009691162109375
-125.618506469727
44.7412252807617
