0.00847761674360797
0.000000
0.000000
-0.00847761674360797
-104.728049205433
34.2701065895774
