0.0083174549449574
0.000000
0.000000
-0.0083174549449574
-95.7070811739835
32.4081413823908
