0.00860590154474432
0.000000
0.000000
-0.00860590154474432
-114.247465681596
35.6513214388761
