0.00908580433238636
0.000000
0.000000
-0.00908580433238636
-100.164199191007
40.1480526178533
