0.0087744140625
0.000000
0.000000
-0.0087744140625
-88.7119366455078
37.3395764160156
