0.00897621848366479
0.000000
0.000000
-0.00897621848366479
-89.973381097967
39.2009714854847
