0.00771340110085229
0.000000
0.000000
-0.00771340110085229
-159.493162286932
23.2533282817494
