0.00858503861860797
0.000000
0.000000
-0.00858503861860797
-108.693220714222
35.4325933144309
