0.00836844704367896
0.000000
0.000000
-0.00836844704367896
-99.8893531244451
33.0191388355602
