0.00930417147549714
0.000000
0.000000
-0.00930417147549714
-104.486596305154
41.9199961991744
